BEGIN:VCALENDAR
VERSION:2.0
PRODID:-//Pelvic Health Network - ECPv6.15.20//NONSGML v1.0//EN
CALSCALE:GREGORIAN
METHOD:PUBLISH
X-WR-CALNAME:Pelvic Health Network
X-ORIGINAL-URL:https://pelvichealthnetwork.org
X-WR-CALDESC:Events for Pelvic Health Network
REFRESH-INTERVAL;VALUE=DURATION:PT1H
X-Robots-Tag:noindex
X-PUBLISHED-TTL:PT1H
BEGIN:VTIMEZONE
TZID:America/New_York
BEGIN:DAYLIGHT
TZOFFSETFROM:-0500
TZOFFSETTO:-0400
TZNAME:EDT
DTSTART:20250309T070000
END:DAYLIGHT
BEGIN:STANDARD
TZOFFSETFROM:-0400
TZOFFSETTO:-0500
TZNAME:EST
DTSTART:20251102T060000
END:STANDARD
BEGIN:DAYLIGHT
TZOFFSETFROM:-0500
TZOFFSETTO:-0400
TZNAME:EDT
DTSTART:20260308T070000
END:DAYLIGHT
BEGIN:STANDARD
TZOFFSETFROM:-0400
TZOFFSETTO:-0500
TZNAME:EST
DTSTART:20261101T060000
END:STANDARD
BEGIN:DAYLIGHT
TZOFFSETFROM:-0500
TZOFFSETTO:-0400
TZNAME:EDT
DTSTART:20270314T070000
END:DAYLIGHT
BEGIN:STANDARD
TZOFFSETFROM:-0400
TZOFFSETTO:-0500
TZNAME:EST
DTSTART:20271107T060000
END:STANDARD
END:VTIMEZONE
BEGIN:VEVENT
DTSTART;TZID=America/New_York:20260505T190000
DTEND;TZID=America/New_York:20260505T200000
DTSTAMP:20260422T204537
CREATED:20260416T044413Z
LAST-MODIFIED:20260416T044603Z
UID:13202-1778007600-1778011200@pelvichealthnetwork.org
SUMMARY:C-Section Rehab: My Experience with Home Health Occupational Therapy
DESCRIPTION:Dr. Jenna Segraves\, PT\, DPT\, NCS shares her experience with home-based OT services after C-section complications\n  \nFour days after a C-section\, Jenna couldn’t lie flat.  \nShe was short of breath. She felt pressure in her chest. Her blood pressure had climbed far from her normal.  \nShe went to OB triage. Her concerns weren’t taken seriously. She was told to go home and rest. With ongoing chest pressure\, she was sent to the main emergency department.  \nWhile in the ED\, her systolic blood pressure rose over 180 and her BNP registered at 1650. She was treated for postpartum fluid overload and acute heart failure.  \nJenna is an ultra-endurance athlete who knew her baseline well. That didn’t stop this from being missed early. In this session\, you’ll see exactly how this unfolded and what was missed\, including the role of home health OT in the first few days after Jenna’s postpartum readmission.  \nPatients are discharged. Symptoms start. They go back in. They’re told it’s part of recovery. They come back again when things get worse.  \nWe’ll talk about what therapists should be paying attention to right away after C-section\, what patients are dealing with at home\, and where rehab fits in before complications escalate.  \nIf you work in acute care\, home health\, or outpatient\, this will give you a clearer picture of what happens after discharge and what early intervention can look like in practice. \nREGISTER HERE
URL:https://pelvichealthnetwork.org/event/c-section-rehab-my-experience-with-home-health-occupational-therapy/
ATTACH;FMTTYPE=image/png:https://pelvichealthnetwork.org/wp-content/uploads/2026/04/C-Section-Rehab-My-Experience-with-Home-Health-Occupational-Therapy-with-Jenna-Segraves.png
END:VEVENT
END:VCALENDAR