BEGIN:VCALENDAR
VERSION:2.0
PRODID:-//Pelvic Health Network - ECPv6.15.20//NONSGML v1.0//EN
CALSCALE:GREGORIAN
METHOD:PUBLISH
X-ORIGINAL-URL:https://pelvichealthnetwork.org
X-WR-CALDESC:Events for Pelvic Health Network
REFRESH-INTERVAL;VALUE=DURATION:PT1H
X-Robots-Tag:noindex
X-PUBLISHED-TTL:PT1H
BEGIN:VTIMEZONE
TZID:UTC
BEGIN:STANDARD
TZOFFSETFROM:+0000
TZOFFSETTO:+0000
TZNAME:UTC
DTSTART:20230101T000000
END:STANDARD
END:VTIMEZONE
BEGIN:VEVENT
DTSTART;TZID=UTC:20240116T180000
DTEND;TZID=UTC:20240116T180000
DTSTAMP:20260421T093300
CREATED:20240201T163403Z
LAST-MODIFIED:20240324T215901Z
UID:7570-1705428000-1705428000@pelvichealthnetwork.org
SUMMARY:A Talk With Dr. Chris Henneberg\, MD\, OB/GYN
DESCRIPTION:Join this special interview on Tuesday\, January 16th at 6:00 PM ET with Dr. Chris Henneberg\, OB/GYN and author to discuss what we should all know to improve the experience after birth. \nLiterary works by Dr. Henneberg: https://christinehenneberg.com/about-me/
URL:https://pelvichealthnetwork.org/event/a-talk-with-dr-chris-henneberg-md-ob-gyn/
CATEGORIES:Videos
ATTACH;FMTTYPE=image/png:https://pelvichealthnetwork.org/wp-content/uploads/2023/12/Pelvic-Network-Events.png
END:VEVENT
END:VCALENDAR