BEGIN:VCALENDAR
VERSION:2.0
PRODID:-//Pelvic Health Network - ECPv6.15.20//NONSGML v1.0//EN
CALSCALE:GREGORIAN
METHOD:PUBLISH
X-WR-CALNAME:Pelvic Health Network
X-ORIGINAL-URL:https://pelvichealthnetwork.org
X-WR-CALDESC:Events for Pelvic Health Network
REFRESH-INTERVAL;VALUE=DURATION:PT1H
X-Robots-Tag:noindex
X-PUBLISHED-TTL:PT1H
BEGIN:VTIMEZONE
TZID:America/New_York
BEGIN:DAYLIGHT
TZOFFSETFROM:-0500
TZOFFSETTO:-0400
TZNAME:EDT
DTSTART:20230312T070000
END:DAYLIGHT
BEGIN:STANDARD
TZOFFSETFROM:-0400
TZOFFSETTO:-0500
TZNAME:EST
DTSTART:20231105T060000
END:STANDARD
BEGIN:DAYLIGHT
TZOFFSETFROM:-0500
TZOFFSETTO:-0400
TZNAME:EDT
DTSTART:20240310T070000
END:DAYLIGHT
BEGIN:STANDARD
TZOFFSETFROM:-0400
TZOFFSETTO:-0500
TZNAME:EST
DTSTART:20241103T060000
END:STANDARD
BEGIN:DAYLIGHT
TZOFFSETFROM:-0500
TZOFFSETTO:-0400
TZNAME:EDT
DTSTART:20250309T070000
END:DAYLIGHT
BEGIN:STANDARD
TZOFFSETFROM:-0400
TZOFFSETTO:-0500
TZNAME:EST
DTSTART:20251102T060000
END:STANDARD
END:VTIMEZONE
BEGIN:VEVENT
DTSTART;TZID=America/New_York:20240327T200000
DTEND;TZID=America/New_York:20240327T210000
DTSTAMP:20260421T061408
CREATED:20240324T215702Z
LAST-MODIFIED:20240402T152241Z
UID:8670-1711569600-1711573200@pelvichealthnetwork.org
SUMMARY:Starting a maternal rehab program in the hospital
DESCRIPTION:Our most frequently asked question: “Is it possible to provide maternal rehab services in a hospital that I don’t work for?” The short answer is: yes – it’s absolutely possible. The long answer: We’ll take a deep dive into what you need to know today to start offering occupational and physical therapy to individuals in a hospital that you work for and in one that you don’t. \nJoin via Zoom: 7:00 – 8:00 PM Eastern Time
URL:https://pelvichealthnetwork.org/event/starting-a-maternal-rehab-program-in-the-hospital/
CATEGORIES:Videos
ATTACH;FMTTYPE=image/png:https://pelvichealthnetwork.org/wp-content/uploads/2024/03/Maternal-rehab-program-in-the-hospital.png
END:VEVENT
END:VCALENDAR