BEGIN:VCALENDAR
VERSION:2.0
PRODID:-//Pelvic Health Network - ECPv6.15.20//NONSGML v1.0//EN
CALSCALE:GREGORIAN
METHOD:PUBLISH
X-WR-CALNAME:Pelvic Health Network
X-ORIGINAL-URL:https://pelvichealthnetwork.org
X-WR-CALDESC:Events for Pelvic Health Network
REFRESH-INTERVAL;VALUE=DURATION:PT1H
X-Robots-Tag:noindex
X-PUBLISHED-TTL:PT1H
BEGIN:VTIMEZONE
TZID:America/Denver
BEGIN:DAYLIGHT
TZOFFSETFROM:-0700
TZOFFSETTO:-0600
TZNAME:MDT
DTSTART:20230312T090000
END:DAYLIGHT
BEGIN:STANDARD
TZOFFSETFROM:-0600
TZOFFSETTO:-0700
TZNAME:MST
DTSTART:20231105T080000
END:STANDARD
BEGIN:DAYLIGHT
TZOFFSETFROM:-0700
TZOFFSETTO:-0600
TZNAME:MDT
DTSTART:20240310T090000
END:DAYLIGHT
BEGIN:STANDARD
TZOFFSETFROM:-0600
TZOFFSETTO:-0700
TZNAME:MST
DTSTART:20241103T080000
END:STANDARD
BEGIN:DAYLIGHT
TZOFFSETFROM:-0700
TZOFFSETTO:-0600
TZNAME:MDT
DTSTART:20250309T090000
END:DAYLIGHT
BEGIN:STANDARD
TZOFFSETFROM:-0600
TZOFFSETTO:-0700
TZNAME:MST
DTSTART:20251102T080000
END:STANDARD
END:VTIMEZONE
BEGIN:VEVENT
DTSTART;TZID=America/Denver:20240411T200000
DTEND;TZID=America/Denver:20240411T210000
DTSTAMP:20260421T062010
CREATED:20240324T221549Z
LAST-MODIFIED:20240408T190805Z
UID:8678-1712865600-1712869200@pelvichealthnetwork.org
SUMMARY:Sex counseling: what to know for your pelvic health practice
DESCRIPTION:Join us for a deep dive with Dr. Uchenna “UC” Ossai\, the founder of YouSeeLogic which is a sexual health platform based in social justice. \nWe’ll discuss what professionals need to know about advancing their practice in sexual health\, respecting the boundaries of mental health\, and protecting sexual wellbeing as a human right. \nJoin LIVE: 8:00 – 9:00 PM Eastern Time
URL:https://pelvichealthnetwork.org/event/sex-counseling-what-to-know-for-your-pelvic-health-practice/
CATEGORIES:Videos
ATTACH;FMTTYPE=image/png:https://pelvichealthnetwork.org/wp-content/uploads/2024/03/Dr.-Uchenna-UC-Ossai.png
END:VEVENT
END:VCALENDAR