BEGIN:VCALENDAR
VERSION:2.0
PRODID:-//Pelvic Health Network - ECPv6.15.20//NONSGML v1.0//EN
CALSCALE:GREGORIAN
METHOD:PUBLISH
X-WR-CALNAME:Pelvic Health Network
X-ORIGINAL-URL:https://pelvichealthnetwork.org
X-WR-CALDESC:Events for Pelvic Health Network
REFRESH-INTERVAL;VALUE=DURATION:PT1H
X-Robots-Tag:noindex
X-PUBLISHED-TTL:PT1H
BEGIN:VTIMEZONE
TZID:America/New_York
BEGIN:DAYLIGHT
TZOFFSETFROM:-0500
TZOFFSETTO:-0400
TZNAME:EDT
DTSTART:20230312T070000
END:DAYLIGHT
BEGIN:STANDARD
TZOFFSETFROM:-0400
TZOFFSETTO:-0500
TZNAME:EST
DTSTART:20231105T060000
END:STANDARD
BEGIN:DAYLIGHT
TZOFFSETFROM:-0500
TZOFFSETTO:-0400
TZNAME:EDT
DTSTART:20240310T070000
END:DAYLIGHT
BEGIN:STANDARD
TZOFFSETFROM:-0400
TZOFFSETTO:-0500
TZNAME:EST
DTSTART:20241103T060000
END:STANDARD
BEGIN:DAYLIGHT
TZOFFSETFROM:-0500
TZOFFSETTO:-0400
TZNAME:EDT
DTSTART:20250309T070000
END:DAYLIGHT
BEGIN:STANDARD
TZOFFSETFROM:-0400
TZOFFSETTO:-0500
TZNAME:EST
DTSTART:20251102T060000
END:STANDARD
END:VTIMEZONE
BEGIN:VEVENT
DTSTART;TZID=America/New_York:20240417T200000
DTEND;TZID=America/New_York:20240417T210000
DTSTAMP:20260421T061746
CREATED:20240408T164019Z
LAST-MODIFIED:20240408T190845Z
UID:8754-1713384000-1713387600@pelvichealthnetwork.org
SUMMARY:Marketing your pelvic health business
DESCRIPTION:Dr. Janelle Howell\, PT\, DPT\, WCS\, @vaginarehabdoctor\, is a preacher and seggs-positive Christian who specializes in women’s health. She helps women return to pain-free intimacy and rekindle lasting\, fulfilling relationships. On Wednesday\, April 17th\, she will share how pelvic health professionals can reach their core audience faster using the time-tested methods she used to grow 340K+ followers across IG and Tik Tok in 2 years. Join us live or catch the replay! \nWednesday\, April 17th at 8 PM ET: VIEW THE LIVESTREAM 
URL:https://pelvichealthnetwork.org/event/marketing-your-pelvic-health-business/
CATEGORIES:Videos
ATTACH;FMTTYPE=image/png:https://pelvichealthnetwork.org/wp-content/uploads/2024/04/Janelle-Howell-Vagina-Rehab-Doctor.png
END:VEVENT
END:VCALENDAR