BEGIN:VCALENDAR
VERSION:2.0
PRODID:-//Pelvic Health Network - ECPv6.15.20//NONSGML v1.0//EN
CALSCALE:GREGORIAN
METHOD:PUBLISH
X-ORIGINAL-URL:https://pelvichealthnetwork.org
X-WR-CALDESC:Events for Pelvic Health Network
REFRESH-INTERVAL;VALUE=DURATION:PT1H
X-Robots-Tag:noindex
X-PUBLISHED-TTL:PT1H
BEGIN:VTIMEZONE
TZID:America/New_York
BEGIN:DAYLIGHT
TZOFFSETFROM:-0500
TZOFFSETTO:-0400
TZNAME:EDT
DTSTART:20230312T070000
END:DAYLIGHT
BEGIN:STANDARD
TZOFFSETFROM:-0400
TZOFFSETTO:-0500
TZNAME:EST
DTSTART:20231105T060000
END:STANDARD
BEGIN:DAYLIGHT
TZOFFSETFROM:-0500
TZOFFSETTO:-0400
TZNAME:EDT
DTSTART:20240310T070000
END:DAYLIGHT
BEGIN:STANDARD
TZOFFSETFROM:-0400
TZOFFSETTO:-0500
TZNAME:EST
DTSTART:20241103T060000
END:STANDARD
BEGIN:DAYLIGHT
TZOFFSETFROM:-0500
TZOFFSETTO:-0400
TZNAME:EDT
DTSTART:20250309T070000
END:DAYLIGHT
BEGIN:STANDARD
TZOFFSETFROM:-0400
TZOFFSETTO:-0500
TZNAME:EST
DTSTART:20251102T060000
END:STANDARD
END:VTIMEZONE
BEGIN:VEVENT
DTSTART;TZID=America/New_York:20240424T190000
DTEND;TZID=America/New_York:20240424T200000
DTSTAMP:20260421T062149
CREATED:20240324T221948Z
LAST-MODIFIED:20240408T190733Z
UID:8682-1713985200-1713988800@pelvichealthnetwork.org
SUMMARY:Optimizing Fertility: How Pelvic Health Therapists Can Help
DESCRIPTION:According to the CDC\, 1 in 5 married women in the U.S. between 15 and 49 years are unable to get pregnant after 1 year of trying and 1 in 4 individuals in this group have difficulty carrying their pregnancy to term.  \nDr. Yeni Abraham is the founder of Triggered PT\, a practice that helps women navigate high-risk pregnancy\, pelvic pain\, endometriosis\, uterine fibroids\, bladder leakage\, and infertility. Her mission is to advance pelvic health practice to meet the needs of people trying to conceive.  \nIn this interview\, we’ll discuss what rehab therapists should know to support patients on their fertility journey including common impairments\, mental health considerations\, and strategies for optimizing health before and after pregnancy. \nJoin via Zoom: 7:00 PM – 8:00 PM Eastern Time
URL:https://pelvichealthnetwork.org/event/optimizing-fertility-how-pelvic-health-therapists-can-help/
CATEGORIES:Videos
ATTACH;FMTTYPE=image/png:https://pelvichealthnetwork.org/wp-content/uploads/2024/03/Dr.-Yeni-Abraham.png
END:VEVENT
END:VCALENDAR