BEGIN:VCALENDAR
VERSION:2.0
PRODID:-//Pelvic Health Network - ECPv6.15.20//NONSGML v1.0//EN
CALSCALE:GREGORIAN
METHOD:PUBLISH
X-WR-CALNAME:Pelvic Health Network
X-ORIGINAL-URL:https://pelvichealthnetwork.org
X-WR-CALDESC:Events for Pelvic Health Network
REFRESH-INTERVAL;VALUE=DURATION:PT1H
X-Robots-Tag:noindex
X-PUBLISHED-TTL:PT1H
BEGIN:VTIMEZONE
TZID:America/New_York
BEGIN:DAYLIGHT
TZOFFSETFROM:-0500
TZOFFSETTO:-0400
TZNAME:EDT
DTSTART:20230312T070000
END:DAYLIGHT
BEGIN:STANDARD
TZOFFSETFROM:-0400
TZOFFSETTO:-0500
TZNAME:EST
DTSTART:20231105T060000
END:STANDARD
BEGIN:DAYLIGHT
TZOFFSETFROM:-0500
TZOFFSETTO:-0400
TZNAME:EDT
DTSTART:20240310T070000
END:DAYLIGHT
BEGIN:STANDARD
TZOFFSETFROM:-0400
TZOFFSETTO:-0500
TZNAME:EST
DTSTART:20241103T060000
END:STANDARD
BEGIN:DAYLIGHT
TZOFFSETFROM:-0500
TZOFFSETTO:-0400
TZNAME:EDT
DTSTART:20250309T070000
END:DAYLIGHT
BEGIN:STANDARD
TZOFFSETFROM:-0400
TZOFFSETTO:-0500
TZNAME:EST
DTSTART:20251102T060000
END:STANDARD
END:VTIMEZONE
BEGIN:VEVENT
DTSTART;TZID=America/New_York:20240425T180000
DTEND;TZID=America/New_York:20240425T190000
DTSTAMP:20260421T061903
CREATED:20240408T174442Z
LAST-MODIFIED:20240408T190707Z
UID:8758-1714068000-1714071600@pelvichealthnetwork.org
SUMMARY:Cash Pay Pelvic Health Therapy
DESCRIPTION:Danika Viola\, MS\, OTR/L is a pelvic health OT who is innovating ways to make pelvic health services more accessible to her clients. She has grown a flourishing community of pelvic health practitioners who are providing early interventions that transform the client experience\, resulting in faster outcomes and happier patients. \nJoin LIVE: Thursday\, April 25th at 8 PM ET
URL:https://pelvichealthnetwork.org/event/8758/
CATEGORIES:Videos
ATTACH;FMTTYPE=image/png:https://pelvichealthnetwork.org/wp-content/uploads/2024/04/Danika-Viola-Cash-Pay-Pelvic-Health.png
END:VEVENT
END:VCALENDAR